BEGIN:VCALENDAR
VERSION:2.0
PRODID:-//The Data Institute - ECPv5.4.0//NONSGML v1.0//EN
CALSCALE:GREGORIAN
METHOD:PUBLISH
X-WR-CALNAME:The Data Institute
X-ORIGINAL-URL:https://thedatainstitute.com.au
X-WR-CALDESC:Events for The Data Institute
BEGIN:VTIMEZONE
TZID:Australia/Melbourne
BEGIN:STANDARD
TZOFFSETFROM:+1100
TZOFFSETTO:+1000
TZNAME:AEST
DTSTART:20210403T160000
END:STANDARD
BEGIN:DAYLIGHT
TZOFFSETFROM:+1000
TZOFFSETTO:+1100
TZNAME:AEDT
DTSTART:20211002T160000
END:DAYLIGHT
END:VTIMEZONE
BEGIN:VEVENT
DTSTART;TZID=Australia/Melbourne:20210315T130000
DTEND;TZID=Australia/Melbourne:20210315T140000
DTSTAMP:20210226T084727
CREATED:20210225T002852Z
LAST-MODIFIED:20210225T003802Z
UID:2212-1615813200-1615816800@thedatainstitute.com.au
SUMMARY:Sample event
DESCRIPTION:
URL:https://thedatainstitute.com.au/tdi-event/2212/
LOCATION:Online 1
ATTACH;FMTTYPE=image/jpeg:https://thedatainstitute.com.au/wp-content/uploads/2019/06/11-4.jpg
END:VEVENT
END:VCALENDAR